BEGIN:VCALENDAR
VERSION:2.0
PRODID:-//wp-events-plugin.com//7.2.3.1//EN
TZID:Europe/London
X-WR-TIMEZONE:Europe/London
BEGIN:VEVENT
UID:54@historyfare.co.uk
DTSTART;TZID=Europe/London:20250807T200000
DTEND;TZID=Europe/London:20250807T220000
DTSTAMP:20250730T163136Z
URL:https://historyfare.co.uk/events/the-457th-bomb-group/
SUMMARY:The 457th Bomb Group
DESCRIPTION:For the August HistoryFare monthly talk\, we welcome guest spea
 ker Jerry Wright.\n\nJerry will be giving a presentation about the history
  of the US 457th Bomb Group.\n\nThe 457th BG were based at RAF Glatton (AA
 F Station 130) in Cambridgeshire from January 1944 until 20 April 1945\, w
 hen it completed its 237th and last combat mission at the conclusion of th
 e war before returning to the US.\n\nThe 457th&nbsp\; Bombardment Group (H
 eavy) consisted of the 748th\, 749th\, 750th and 751st Bombardment Squadro
 ns. The recognizable tail code of the 457th was the “triangle U” paint
 ed on the vertical stabilizers of the Boeing B-17 Flying Fortresses which 
 operated from the air base.\nTo reserve your seat\, please select the “b
 ook now” label above or email meltonhistoryfare@gmail.com\n&nbsp\;\nAdmi
 ssion cost £3 per person\, payable on arrival.
ATTACH;FMTTYPE=image/jpeg:https://historyfare.co.uk/wp-content/uploads/202
 5/07/457.jpg
CATEGORIES:457th Bomb Group,History Talk,Local History,Military
 History,USAAF,WW2
LOCATION:Melton Mowbray RAF Association Tornado Club\, 24 Asfordby Road\, M
 elton Mowbray\, Leicestershire\, LE13 0HR\, United Kingdom
X-APPLE-STRUCTURED-LOCATION;VALUE=URI;X-ADDRESS=24 Asfordby Road\, Melton M
 owbray\, Leicestershire\, LE13 0HR\, United Kingdom;X-APPLE-RADIUS=100;X-T
 ITLE=Melton Mowbray RAF Association Tornado Club:geo:0,0
END:VEVENT
BEGIN:VTIMEZONE
TZID:Europe/London
X-LIC-LOCATION:Europe/London
BEGIN:DAYLIGHT
DTSTART:20250330T020000
TZOFFSETFROM:+0000
TZOFFSETTO:+0100
TZNAME:BST
END:DAYLIGHT
END:VTIMEZONE
END:VCALENDAR