BEGIN:VCALENDAR
VERSION:2.0
PRODID:-//wp-events-plugin.com//7.2.3.1//EN
TZID:Europe/London
X-WR-TIMEZONE:Europe/London
BEGIN:VEVENT
UID:5@historyfare.co.uk
DTSTART;TZID=Europe/London:20240609T100000
DTEND;TZID=Europe/London:20240609T120000
DTSTAMP:20250115T092154Z
URL:https://historyfare.co.uk/events/painting-the-town-red-walking-tour-2/
SUMMARY:Painting the Town Red Walking Tour
DESCRIPTION:&nbsp\;\n\nOur wonderful market town of Melton Mowbray is full 
 of history going back 1\,000’s of years.\n&nbsp\;\n\n\n\nMelton Mowbray 
 is famous for Fox Hunting and one of the historic ‘stories’ from the 1
 830s relates to the Marquis of Waterford and the expression “painting th
 e town red” which came about when the Marquis\, who was well known for h
 is hooliganism\, along with his friends caused havoc throughout the town p
 ainting buildings red.\n\nFox Hunting\, as well as other sports such as ho
 rse racing\, steeplechases and cock fighting attracted people from all sor
 ts of classes including Royalty\, Great Military Leaders\, Prime Ministers
 \, Poets\, Artists &amp\; Socialites\, Melton Mowbray has had them all ove
 r the years.\n\n[caption id="attachment_81" align="aligncenter" width="300
 "] Paint the Town Red[/caption]\n\n\nTour departs Council Offices\, Parksi
 de\, Station Approach at 10:00Hrs.\n\nDuration 120 minutes (2 Hours)\n\n\n
 &nbsp\;\nCost £5 per person - To be paid prior to start of tour. A link t
 o pay online via sum up will be sent with the booking confirmation.\n&nbsp
 \;\nTo reserve your place\, please email: meltonhistoryfare@gmail.com\n&nb
 sp\;
ATTACH;FMTTYPE=image/jpeg:https://historyfare.co.uk/wp-content/uploads/202
 0/04/town-red-1837.jpg
CATEGORIES:Guided Tour,Local History,Walking Tour
LOCATION:Melton Mowbray\, Melton Borough Council Burton Street\, \, Melton 
 Mowbray\, Leicestershire\, LE13 1GH\, United Kingdom
X-APPLE-STRUCTURED-LOCATION;VALUE=URI;X-ADDRESS=Melton Borough Council Burt
 on Street\, \, Melton Mowbray\, Leicestershire\, LE13 1GH\, United Kingdom
 ;X-APPLE-RADIUS=100;X-TITLE=Melton Mowbray:geo:0,0
END:VEVENT
BEGIN:VTIMEZONE
TZID:Europe/London
X-LIC-LOCATION:Europe/London
BEGIN:DAYLIGHT
DTSTART:20240331T020000
TZOFFSETFROM:+0000
TZOFFSETTO:+0100
TZNAME:BST
END:DAYLIGHT
END:VTIMEZONE
END:VCALENDAR