BEGIN:VCALENDAR
VERSION:2.0
PRODID:-//wp-events-plugin.com//7.2.3.1//EN
TZID:Europe/London
X-WR-TIMEZONE:Europe/London
BEGIN:VEVENT
UID:31@historyfare.co.uk
DTSTART;TZID=Europe/London:20250906T100000
DTEND;TZID=Europe/London:20250906T120000
DTSTAMP:20250813T154855Z
URL:https://historyfare.co.uk/events/melton-mowbray-heritage-trail-12/
SUMMARY:Melton Mowbray Heritage Trail
DESCRIPTION:\n\nIf you are wondering what to do in Melton Mowbray then why 
 not join us on this Melton Mowbray Heritage Trail as we look at the town
 ’s rich history.\n&nbsp\;\nOur wonderful market town of Melton Mowbray i
 s full of history going back 1\,000’s of years.\n&nbsp\;\nWe will look a
 t the Lords of the Manor\, The Magna Carta\, Royalty\, Socialites\, Fox Hu
 nting and much more.\n&nbsp\;\n&nbsp\;\nTours depart at 10:00Hrs from Coun
 cil Offices\, Parkside\, Station Approach.\nDuration 120 minutes (2 Hours)
 .\n\nTour group size - maximum 20.\n\n\nCost £6 per person or £20 for a 
 group of 4\nTo be paid prior to the start of tour.\n&nbsp\;\n\nTo reserve 
 your place\, click on the link above or emaill: meltonhistoryfare@gmail.co
 m\n&nbsp\;\n\nYou will recieve a booking confirmation that will include de
 tails of how to pay.\n&nbsp\;\n&nbsp\;
ATTACH;FMTTYPE=image/jpeg:https://historyfare.co.uk/wp-content/uploads/202
 3/11/20201231_141729-scaled.jpg
CATEGORIES:Guided Tour,Local History,Melton Mowbray,Walking Tour
LOCATION:Melton Mowbray\, Melton Borough Council Burton Street\, \, Melton 
 Mowbray\, Leicestershire\, LE13 1GH\, United Kingdom
X-APPLE-STRUCTURED-LOCATION;VALUE=URI;X-ADDRESS=Melton Borough Council Burt
 on Street\, \, Melton Mowbray\, Leicestershire\, LE13 1GH\, United Kingdom
 ;X-APPLE-RADIUS=100;X-TITLE=Melton Mowbray:geo:0,0
END:VEVENT
BEGIN:VTIMEZONE
TZID:Europe/London
X-LIC-LOCATION:Europe/London
BEGIN:DAYLIGHT
DTSTART:20250330T020000
TZOFFSETFROM:+0000
TZOFFSETTO:+0100
TZNAME:BST
END:DAYLIGHT
END:VTIMEZONE
END:VCALENDAR