BEGIN:VCALENDAR
VERSION:2.0
PRODID:-//wp-events-plugin.com//7.2.3.1//EN
TZID:Europe/London
X-WR-TIMEZONE:Europe/London
BEGIN:VEVENT
UID:105@historyfare.co.uk
DTSTART;TZID=Europe/London:20260305T200000
DTEND;TZID=Europe/London:20260305T213000
DTSTAMP:20260305T144400Z
URL:https://historyfare.co.uk/events/grantham-and-the-second-world-war/
SUMMARY:CANCELLED - Grantham and the Second World War
DESCRIPTION:For our March HistoryFare talk\, we welcome John Manterfield wh
 o will present his talk "Grantham and the Second World War.”\n\nJohn is 
 the Chair of Grantham Civic Society&nbsp\; and actively involved in St Wul
 fram's Church in Grantham.\n\nHaving undertaken research at Exeter Univers
 ity with a thesis on the Topographical Development of Grantham 1535-1835\,
  John has published a chapter on Grantham in the later medieval period in 
 The Making of Grantham.&nbsp\; &nbsp\;He also edited Newton's Grantham&nbs
 p\; - the Hall Book and life in a Puritan town&nbsp\; and two volumes for 
 the Lincoln Record Society.&nbsp\; Borough Government in Newton's Grantham
 - The Hall Book of Grantham 1649 -1662&nbsp\; &nbsp\;&amp\; Borough Govern
 ment in Restoration Grantham - The Hall Book of Grantham 1662-1704.\n\nJoh
 n's talk will cover the inter-war history of Grantham with a brief overvie
 w of council housing and slum clearance\,&nbsp\; preparations for war\,&nb
 sp\; Grantham under attack\,&nbsp\; scaling down\, VE day and peace at las
 t.\n\nTalk starts at 8pm\n\nCost £3/person payable on the door.
ATTACH;FMTTYPE=image/jpeg:https://historyfare.co.uk/wp-content/uploads/202
 6/01/IMGP0476-A-R-P-Centre-No-2-Barrowby-Rd-Catholic-Church-Hall-1-scaled.
 jpg
CATEGORIES:History Talk,Local History,Military History,WW2
LOCATION:Melton Mowbray RAF Association Tornado Club\, 24 Asfordby Road\, M
 elton Mowbray\, Leicestershire\, LE13 0HR\, United Kingdom
X-APPLE-STRUCTURED-LOCATION;VALUE=URI;X-ADDRESS=24 Asfordby Road\, Melton M
 owbray\, Leicestershire\, LE13 0HR\, United Kingdom;X-APPLE-RADIUS=100;X-T
 ITLE=Melton Mowbray RAF Association Tornado Club:geo:0,0
END:VEVENT
BEGIN:VTIMEZONE
TZID:Europe/London
X-LIC-LOCATION:Europe/London
BEGIN:STANDARD
DTSTART:20251026T010000
TZOFFSETFROM:+0100
TZOFFSETTO:+0000
TZNAME:GMT
END:STANDARD
END:VTIMEZONE
END:VCALENDAR