BEGIN:VCALENDAR
VERSION:2.0
PRODID:-//wp-events-plugin.com//7.2.3.1//EN
TZID:Europe/London
X-WR-TIMEZONE:Europe/London
BEGIN:VEVENT
UID:63@historyfare.co.uk
DTSTART;TZID=Europe/London:20260108T200000
DTEND;TZID=Europe/London:20260108T210000
DTSTAMP:20260108T134927Z
URL:https://historyfare.co.uk/events/10th-battalion-parachute-regiment-2/
SUMMARY:Cancelled - 10th Battalion Parachute Regiment
DESCRIPTION:Join us for our first HistoryFare talk of 2026 where we will ex
 plore the history of the 10th Battalion Parachute Regiment from its format
 ion through to its disbandment post Operation MARKET GARDEN in 1944\, focu
 sing on its time in Somerby and the surrounding villages.&nbsp\;\nTo reser
 ve your seat\, please select the "book now" label above or email meltonhis
 toryfare@gmail.com\n&nbsp\;\nAdmission cost £3 per person\, payable on ar
 rival.
ATTACH;FMTTYPE=image/jpeg:https://historyfare.co.uk/wp-content/uploads/202
 5/08/Screenshot-2025-08-13-093658.jpg
CATEGORIES:History Talk,Local History,Military History,Parachute
 Regiment,WW2
LOCATION:Melton Mowbray RAF Association Tornado Club\, 24 Asfordby Road\, M
 elton Mowbray\, Leicestershire\, LE13 0HR\, United Kingdom
X-APPLE-STRUCTURED-LOCATION;VALUE=URI;X-ADDRESS=24 Asfordby Road\, Melton M
 owbray\, Leicestershire\, LE13 0HR\, United Kingdom;X-APPLE-RADIUS=100;X-T
 ITLE=Melton Mowbray RAF Association Tornado Club:geo:0,0
END:VEVENT
BEGIN:VTIMEZONE
TZID:Europe/London
X-LIC-LOCATION:Europe/London
BEGIN:STANDARD
DTSTART:20251026T010000
TZOFFSETFROM:+0100
TZOFFSETTO:+0000
TZNAME:GMT
END:STANDARD
END:VTIMEZONE
END:VCALENDAR